BEGIN:VCALENDAR
VERSION:2.0
PRODID:-//humpa bumpa - ECPv5.16.4//NONSGML v1.0//EN
CALSCALE:GREGORIAN
METHOD:PUBLISH
X-WR-CALNAME:humpa bumpa
X-ORIGINAL-URL:https://www.oberneufnacher-musikanten.de
X-WR-CALDESC:Veranstaltungen für humpa bumpa
BEGIN:VTIMEZONE
TZID:Europe/Helsinki
BEGIN:DAYLIGHT
TZOFFSETFROM:+0200
TZOFFSETTO:+0300
TZNAME:EEST
DTSTART:20170326T010000
END:DAYLIGHT
BEGIN:STANDARD
TZOFFSETFROM:+0300
TZOFFSETTO:+0200
TZNAME:EET
DTSTART:20171029T010000
END:STANDARD
END:VTIMEZONE
BEGIN:VEVENT
DTSTART;TZID=Europe/Helsinki:20170702T190000
DTEND;TZID=Europe/Helsinki:20170702T230000
DTSTAMP:20260424T181935
CREATED:20170217T160636Z
LAST-MODIFIED:20170217T160636Z
UID:356-1499022000-1499036400@www.oberneufnacher-musikanten.de
SUMMARY:Radigundisfest in Waldberg
DESCRIPTION:Auf geht&#8217;s nach Waldberg. Beim Radigundisfest dürfen wir am Sonntagabend für Stimmung sorgen. \nNähere Infos findet Ihr hier: https://www.radegundisfest.de/
URL:https://www.oberneufnacher-musikanten.de/event/radigundisfest-in-waldberg/
END:VEVENT
END:VCALENDAR