BEGIN:VCALENDAR
VERSION:2.0
PRODID:-//humpa bumpa - ECPv5.16.4//NONSGML v1.0//EN
CALSCALE:GREGORIAN
METHOD:PUBLISH
X-WR-CALNAME:humpa bumpa
X-ORIGINAL-URL:https://www.oberneufnacher-musikanten.de
X-WR-CALDESC:Veranstaltungen für humpa bumpa
BEGIN:VTIMEZONE
TZID:Europe/Helsinki
BEGIN:DAYLIGHT
TZOFFSETFROM:+0200
TZOFFSETTO:+0300
TZNAME:EEST
DTSTART:20170326T010000
END:DAYLIGHT
BEGIN:STANDARD
TZOFFSETFROM:+0300
TZOFFSETTO:+0200
TZNAME:EET
DTSTART:20171029T010000
END:STANDARD
END:VTIMEZONE
BEGIN:VEVENT
DTSTART;TZID=Europe/Helsinki:20170630T190000
DTEND;TZID=Europe/Helsinki:20170630T230000
DTSTAMP:20260424T195942
CREATED:20170217T160925Z
LAST-MODIFIED:20170217T162325Z
UID:358-1498849200-1498863600@www.oberneufnacher-musikanten.de
SUMMARY:Stadlfest in Konradshofen
DESCRIPTION:Die Konradshofer haben auch in diesem Jahr wieder an uns gedacht! Wir dürfen das legendäre Stadlfest eröffnen und am Freitagabend den Stadl zum beben bringen. \nEin paar Erinnerungen aus dem letzten Jahr gibts hier: Bilder Jubiläum Konradshofen
URL:https://www.oberneufnacher-musikanten.de/event/stadlfest-in-konradshofen/
END:VEVENT
END:VCALENDAR